BEGIN:VCALENDAR
VERSION:2.0
PRODID:-//The Thomson Tour - ECPv6.15.11//NONSGML v1.0//EN
CALSCALE:GREGORIAN
METHOD:PUBLISH
X-WR-CALNAME:The Thomson Tour
X-ORIGINAL-URL:http://www.thethomsontour.com
X-WR-CALDESC:Events for The Thomson Tour
REFRESH-INTERVAL;VALUE=DURATION:PT1H
X-Robots-Tag:noindex
X-PUBLISHED-TTL:PT1H
BEGIN:VTIMEZONE
TZID:UTC
BEGIN:STANDARD
TZOFFSETFROM:+0000
TZOFFSETTO:+0000
TZNAME:UTC
DTSTART:20210101T000000
END:STANDARD
END:VTIMEZONE
BEGIN:VEVENT
DTSTART;TZID=UTC:20220117T080000
DTEND;TZID=UTC:20220117T220000
DTSTAMP:20260423T082215
CREATED:20210919T173450Z
LAST-MODIFIED:20211216T133649Z
UID:3648-1642406400-1642456800@www.thethomsontour.com
SUMMARY:Letchworth Golf Club
DESCRIPTION:Entry Fee will be £60 \nThe tournament is an 18 hole strokeplay competition. \nCoffee and breakfasts will be available in the clubhouse before play at players own cost. \nAll winnings will be paid out via Paypal or by BACS transfer after the event. \nWe will NOT be accepting cash on the day for this event\, all entries MUST be paid before the event. \nCLOSING DATE FOR ENTRY – THURSDAY 13th JANUARY 2021 at 18:00 \nEntry Fee:\nMember – £60\nNon-Member – £80\nTo enter tournaments complete the entry form on the event page. Entry fees will need to be paid before the tournament\, reminders will be sent out nearer the event if not received at the time of entry. \nJoin the Tour as a full member\, Membership Application…http://www.thethomsontour.com/membership/ \nENTER NOW – \nTournament entry fees must be paid in advance to – \nStarling Bank  Acc No. 44095008 \nSort code 60-83-71    (  Name of account –  The Thomson Tour / David Partridge ) \nPlease use your initials and ‘LET’ as the reference \n\n\n  \n\n\n\n Your Name (required)\n \n \n Mobile Number (required)\n \n \n Your Email (required)\n \n \n Attachment / Sponsor\n \n \n Your Message\n \n \nI have read & accept The Thomson Tour Policy\n \nI understand that entries are confirmed upon receipt of full payment\n \n\n ×
URL:http://www.thethomsontour.com/event/letchworth-golf-club/
LOCATION:Letchworth Golf Club\, Letchworth Lane Letchworth Garden City Herts\, SG6 3NQ\, United Kingdom
CATEGORIES:Tournaments
ATTACH;FMTTYPE=image/jpeg:http://www.thethomsontour.com/wp-content/uploads/2021/09/heritage-thumb.jpg
ORGANIZER;CN="The Thomson Tour":MAILTO:info@thethomsontour.com
END:VEVENT
END:VCALENDAR